BEGIN:VCALENDAR
VERSION:2.0
PRODID:-//Rowlett Real Estate School - ECPv6.15.20//NONSGML v1.0//EN
CALSCALE:GREGORIAN
METHOD:PUBLISH
X-WR-CALNAME:Rowlett Real Estate School
X-ORIGINAL-URL:https://rowlettrealestateschool.com
X-WR-CALDESC:Events for Rowlett Real Estate School
REFRESH-INTERVAL;VALUE=DURATION:PT1H
X-Robots-Tag:noindex
X-PUBLISHED-TTL:PT1H
BEGIN:VTIMEZONE
TZID:America/Chicago
BEGIN:DAYLIGHT
TZOFFSETFROM:-0600
TZOFFSETTO:-0500
TZNAME:CDT
DTSTART:20250309T080000
END:DAYLIGHT
BEGIN:STANDARD
TZOFFSETFROM:-0500
TZOFFSETTO:-0600
TZNAME:CST
DTSTART:20251102T070000
END:STANDARD
BEGIN:DAYLIGHT
TZOFFSETFROM:-0600
TZOFFSETTO:-0500
TZNAME:CDT
DTSTART:20260308T080000
END:DAYLIGHT
BEGIN:STANDARD
TZOFFSETFROM:-0500
TZOFFSETTO:-0600
TZNAME:CST
DTSTART:20261101T070000
END:STANDARD
BEGIN:DAYLIGHT
TZOFFSETFROM:-0600
TZOFFSETTO:-0500
TZNAME:CDT
DTSTART:20270314T080000
END:DAYLIGHT
BEGIN:STANDARD
TZOFFSETFROM:-0500
TZOFFSETTO:-0600
TZNAME:CST
DTSTART:20271107T070000
END:STANDARD
END:VTIMEZONE
BEGIN:VEVENT
DTSTART;TZID=America/Chicago:20260504T083000
DTEND;TZID=America/Chicago:20260506T173000
DTSTAMP:20260421T115246
CREATED:20260211T021553Z
LAST-MODIFIED:20260211T021553Z
UID:10000085-1777883400-1778088600@rowlettrealestateschool.com
SUMMARY:3 Day Mutual Recognition Livestream - May 4th - 6th 2026
DESCRIPTION:Florida Mutual recognition classes are for those needing to get a real estate license through mutual recognition. The first thing you need to do is register on our website. Next\, you can attend the three day class and take the law portion of the Florida Real Estate Principles\, Practice and Law classroom course. Therefore\, it will definitely be beneficial to helping you pass the 40 question real estate law exam. \n3 Day Mutual Recognition Course Livestream\nCourse Includes:\n\n3 Day Classroom Law Portion of the Pre License Course\nFlorida Real Estate Sales Associate Pre-License Course Textbook\n1 Year Access to Mutual Recognition Course Videos\n\nHours\n\n8:30 am. to 5:30 pm.\nBreak at 10:30 am.\n1 hr. Lunch at 12:30 pm.\nBreak at 3:30 pm.\n\nWhat You Need\n\nTextbook\, Paper\, Pen\, Highlighter.\n\nRefunds\, Terms & Conditions \nFlorida Mutual Recognition Information\nFlorida has mutual recognition with seven states which are Alabama\, Arkansas\, Connecticut\, Georgia\, Illinois\, Mississippi\, and Nebraska. Therefore\, residents who qualify for mutual recognition from any of these states can get a Florida real estate license after passing a forty (40) question examination. The state exam tests your knowledge of Florida real estate license law. Also\, you will have questions from the statutes and administrative rules. The 40 question law exam is the same for both sales associates or brokers. Furthermore\, just to let you know\, there is no requirements that an applicant must attend a course for this exam. However\, we highly suggest that you attend a class or take a online course to prepare you for the state exam. \nFor more detailed information from the Department of Business and Professional Regulations on qualifying Click Here.
URL:https://rowlettrealestateschool.com/class/3-day-mutual-recognition-livestream-may-4th-6th-2026/
CATEGORIES:3 Day Mutual Recognition Livestream
LOCATION:https://rowlettrealestateschool.com/class/3-day-mutual-recognition-livestream-may-4th-6th-2026/
END:VEVENT
BEGIN:VEVENT
DTSTART;TZID=America/Chicago:20260601T083000
DTEND;TZID=America/Chicago:20260603T173000
DTSTAMP:20260421T115246
CREATED:20251108T205503Z
LAST-MODIFIED:20251109T041858Z
UID:10000070-1780302600-1780507800@rowlettrealestateschool.com
SUMMARY:3 Day Mutual Recognition Livestream - June 1st - 3rd 2026
DESCRIPTION:Florida Mutual recognition classes are for those needing to get a real estate license through mutual recognition. The first thing you need to do is register on our website. Next\, you can attend the three day class and take the law portion of the Florida Real Estate Principles\, Practice and Law classroom course. Therefore\, it will definitely be beneficial to helping you pass the 40 question real estate law exam. \n3 Day Mutual Recognition Course Livestream\nCourse Includes:\n\n3 Day Classroom Law Portion of the Pre License Course\nFlorida Real Estate Sales Associate Pre-License Course Textbook\n1 Year Access to Mutual Recognition Course Videos\n\nHours\n\n8:30 am. to 5:30 pm.\nBreak at 10:30 am.\n1 hr. Lunch at 12:30 pm.\nBreak at 3:30 pm.\n\nWhat You Need\n\nTextbook\, Paper\, Pen\, Highlighter.\n\nRefunds\, Terms & Conditions \nFlorida Mutual Recognition Information\nFlorida has mutual recognition with seven states which are Alabama\, Arkansas\, Connecticut\, Georgia\, Illinois\, Mississippi\, and Nebraska. Therefore\, residents who qualify for mutual recognition from any of these states can get a Florida real estate license after passing a forty (40) question examination. The state exam tests your knowledge of Florida real estate license law. Also\, you will have questions from the statutes and administrative rules. The 40 question law exam is the same for both sales associates or brokers. Furthermore\, just to let you know\, there is no requirements that an applicant must attend a course for this exam. However\, we highly suggest that you attend a class or take a online course to prepare you for the state exam. \nFor more detailed information from the Department of Business and Professional Regulations on qualifying Click Here.
URL:https://rowlettrealestateschool.com/class/3-day-mutual-recognition-livestream-june-1st-3rd-2026/
CATEGORIES:3 Day Mutual Recognition Livestream
LOCATION:https://rowlettrealestateschool.com/class/3-day-mutual-recognition-livestream-june-1st-3rd-2026/
END:VEVENT
BEGIN:VEVENT
DTSTART;TZID=America/Chicago:20260713T083000
DTEND;TZID=America/Chicago:20260715T173000
DTSTAMP:20260421T115246
CREATED:20260211T022109Z
LAST-MODIFIED:20260211T022109Z
UID:10000089-1783931400-1784136600@rowlettrealestateschool.com
SUMMARY:3 Day Mutual Recognition Livestream - July 13th - 15th 2026
DESCRIPTION:Florida Mutual recognition classes are for those needing to get a real estate license through mutual recognition. The first thing you need to do is register on our website. Next\, you can attend the three day class and take the law portion of the Florida Real Estate Principles\, Practice and Law classroom course. Therefore\, it will definitely be beneficial to helping you pass the 40 question real estate law exam. \n3 Day Mutual Recognition Course Livestream\nCourse Includes:\n\n3 Day Classroom Law Portion of the Pre License Course\nFlorida Real Estate Sales Associate Pre-License Course Textbook\n1 Year Access to Mutual Recognition Course Videos\n\nHours\n\n8:30 am. to 5:30 pm.\nBreak at 10:30 am.\n1 hr. Lunch at 12:30 pm.\nBreak at 3:30 pm.\n\nWhat You Need\n\nTextbook\, Paper\, Pen\, Highlighter.\n\nRefunds\, Terms & Conditions \nFlorida Mutual Recognition Information\nFlorida has mutual recognition with seven states which are Alabama\, Arkansas\, Connecticut\, Georgia\, Illinois\, Mississippi\, and Nebraska. Therefore\, residents who qualify for mutual recognition from any of these states can get a Florida real estate license after passing a forty (40) question examination. The state exam tests your knowledge of Florida real estate license law. Also\, you will have questions from the statutes and administrative rules. The 40 question law exam is the same for both sales associates or brokers. Furthermore\, just to let you know\, there is no requirements that an applicant must attend a course for this exam. However\, we highly suggest that you attend a class or take a online course to prepare you for the state exam. \nFor more detailed information from the Department of Business and Professional Regulations on qualifying Click Here.
URL:https://rowlettrealestateschool.com/class/3-day-mutual-recognition-livestream-july-13th-15th-2026/
CATEGORIES:3 Day Mutual Recognition Livestream
LOCATION:https://rowlettrealestateschool.com/class/3-day-mutual-recognition-livestream-july-13th-15th-2026/
END:VEVENT
BEGIN:VEVENT
DTSTART;TZID=America/Chicago:20260803T083000
DTEND;TZID=America/Chicago:20260805T173000
DTSTAMP:20260421T115246
CREATED:20251108T205626Z
LAST-MODIFIED:20251109T042213Z
UID:10000071-1785745800-1785951000@rowlettrealestateschool.com
SUMMARY:3 Day Mutual Recognition Livestream - August 3rd - 5th 2026
DESCRIPTION:Florida Mutual recognition classes are for those needing to get a real estate license through mutual recognition. The first thing you need to do is register on our website. Next\, you can attend the three day class and take the law portion of the Florida Real Estate Principles\, Practice and Law classroom course. Therefore\, it will definitely be beneficial to helping you pass the 40 question real estate law exam. \n3 Day Mutual Recognition Course Livestream\nCourse Includes:\n\n3 Day Classroom Law Portion of the Pre License Course\nFlorida Real Estate Sales Associate Pre-License Course Textbook\n1 Year Access to Mutual Recognition Course Videos\n\nHours\n\n8:30 am. to 5:30 pm.\nBreak at 10:30 am.\n1 hr. Lunch at 12:30 pm.\nBreak at 3:30 pm.\n\nWhat You Need\n\nTextbook\, Paper\, Pen\, Highlighter.\n\nRefunds\, Terms & Conditions \nFlorida Mutual Recognition Information\nFlorida has mutual recognition with seven states which are Alabama\, Arkansas\, Connecticut\, Georgia\, Illinois\, Mississippi\, and Nebraska. Therefore\, residents who qualify for mutual recognition from any of these states can get a Florida real estate license after passing a forty (40) question examination. The state exam tests your knowledge of Florida real estate license law. Also\, you will have questions from the statutes and administrative rules. The 40 question law exam is the same for both sales associates or brokers. Furthermore\, just to let you know\, there is no requirements that an applicant must attend a course for this exam. However\, we highly suggest that you attend a class or take a online course to prepare you for the state exam. \nFor more detailed information from the Department of Business and Professional Regulations on qualifying Click Here.
URL:https://rowlettrealestateschool.com/class/3-day-mutual-recognition-livestream-august-3rd-5th-2026/
CATEGORIES:3 Day Mutual Recognition Livestream
LOCATION:https://rowlettrealestateschool.com/class/3-day-mutual-recognition-livestream-august-3rd-5th-2026/
END:VEVENT
BEGIN:VEVENT
DTSTART;TZID=America/Chicago:20261005T083000
DTEND;TZID=America/Chicago:20261007T173000
DTSTAMP:20260421T115246
CREATED:20251108T205805Z
LAST-MODIFIED:20251109T042548Z
UID:10000072-1791189000-1791394200@rowlettrealestateschool.com
SUMMARY:3 Day Mutual Recognition Livestream - October 5th - 7th 2026
DESCRIPTION:Florida Mutual recognition classes are for those needing to get a real estate license through mutual recognition. The first thing you need to do is register on our website. Next\, you can attend the three day class and take the law portion of the Florida Real Estate Principles\, Practice and Law classroom course. Therefore\, it will definitely be beneficial to helping you pass the 40 question real estate law exam. \n3 Day Mutual Recognition Course Livestream\nCourse Includes:\n\n3 Day Classroom Law Portion of the Pre License Course\nFlorida Real Estate Sales Associate Pre-License Course Textbook\n1 Year Access to Mutual Recognition Course Videos\n\nHours\n\n8:30 am. to 5:30 pm.\nBreak at 10:30 am.\n1 hr. Lunch at 12:30 pm.\nBreak at 3:30 pm.\n\nWhat You Need\n\nTextbook\, Paper\, Pen\, Highlighter.\n\nRefunds\, Terms & Conditions \nFlorida Mutual Recognition Information\nFlorida has mutual recognition with seven states which are Alabama\, Arkansas\, Connecticut\, Georgia\, Illinois\, Mississippi\, and Nebraska. Therefore\, residents who qualify for mutual recognition from any of these states can get a Florida real estate license after passing a forty (40) question examination. The state exam tests your knowledge of Florida real estate license law. Also\, you will have questions from the statutes and administrative rules. The 40 question law exam is the same for both sales associates or brokers. Furthermore\, just to let you know\, there is no requirements that an applicant must attend a course for this exam. However\, we highly suggest that you attend a class or take a online course to prepare you for the state exam. \nFor more detailed information from the Department of Business and Professional Regulations on qualifying Click Here.
URL:https://rowlettrealestateschool.com/class/3-day-mutual-recognition-livestream-october-5th-7th-2026/
CATEGORIES:3 Day Mutual Recognition Livestream
LOCATION:https://rowlettrealestateschool.com/class/3-day-mutual-recognition-livestream-october-5th-7th-2026/
END:VEVENT
BEGIN:VEVENT
DTSTART;TZID=America/Chicago:20261207T083000
DTEND;TZID=America/Chicago:20261209T173000
DTSTAMP:20260421T115246
CREATED:20251108T205915Z
LAST-MODIFIED:20251109T042719Z
UID:10000073-1796632200-1796837400@rowlettrealestateschool.com
SUMMARY:3 Day Mutual Recognition Livestream - December 7th - 9th 2026
DESCRIPTION:Florida Mutual recognition classes are for those needing to get a real estate license through mutual recognition. The first thing you need to do is register on our website. Next\, you can attend the three day class and take the law portion of the Florida Real Estate Principles\, Practice and Law classroom course. Therefore\, it will definitely be beneficial to helping you pass the 40 question real estate law exam. \n3 Day Mutual Recognition Course Livestream\nCourse Includes:\n\n3 Day Classroom Law Portion of the Pre License Course\nFlorida Real Estate Sales Associate Pre-License Course Textbook\n1 Year Access to Mutual Recognition Course Videos\n\nHours\n\n8:30 am. to 5:30 pm.\nBreak at 10:30 am.\n1 hr. Lunch at 12:30 pm.\nBreak at 3:30 pm.\n\nWhat You Need\n\nTextbook\, Paper\, Pen\, Highlighter.\n\nRefunds\, Terms & Conditions \nFlorida Mutual Recognition Information\nFlorida has mutual recognition with seven states which are Alabama\, Arkansas\, Connecticut\, Georgia\, Illinois\, Mississippi\, and Nebraska. Therefore\, residents who qualify for mutual recognition from any of these states can get a Florida real estate license after passing a forty (40) question examination. The state exam tests your knowledge of Florida real estate license law. Also\, you will have questions from the statutes and administrative rules. The 40 question law exam is the same for both sales associates or brokers. Furthermore\, just to let you know\, there is no requirements that an applicant must attend a course for this exam. However\, we highly suggest that you attend a class or take a online course to prepare you for the state exam. \nFor more detailed information from the Department of Business and Professional Regulations on qualifying Click Here.
URL:https://rowlettrealestateschool.com/class/3-day-mutual-recognition-livestream-december-7th-9th-2026/
CATEGORIES:3 Day Mutual Recognition Livestream
LOCATION:https://rowlettrealestateschool.com/class/3-day-mutual-recognition-livestream-december-7th-9th-2026/
END:VEVENT
END:VCALENDAR